BEGIN:VCALENDAR
VERSION:2.0
PRODID:-//CERN//INDICO//EN
BEGIN:VEVENT
SUMMARY:30th Symposium on Astroparticle Physics in the Netherlands\, 15/16
  September 2026
DTSTART:20260915T070000Z
DTEND:20260916T121000Z
DTSTAMP:20260421T115000Z
UID:indico-event-7893@indico.nikhef.nl
CONTACT:hschoorlemmer@science.ru.nl
DESCRIPTION:The 30th CAN Symposium will be held on  September 15th/16th 
 2026 in Soesterberg at the hotel Kontakt der Kontinenten. This is the ann
 ual meeting of the  Dutch astroparticle physics community organized by t
 he  Committee of Astroparticle Physics in the Netherlands - CAN .The idea
  of these symposia is to form a strong astroparticle physics community in 
 the Netherlands. The symposia give a platform to (PhD) students and postdo
 ctoral researchers to present their recent results to a nation-wide audien
 ce and to establish new scientific contacts beyond the own working group. 
 It is also a tradition to have international keynote speakers\, reviewing 
 important aspects of astroparticle physics.There is no conference fee for 
 this event\, which is kindly funded by NIKHEF and the Dutch Astronomy Coun
 cil and NWO.You can request your accommodation at the conference hotel dur
 ing the registration process.   \n\nhttps://indico.nikhef.nl/event/7893
 /
URL:https://indico.nikhef.nl/event/7893/
END:VEVENT
END:VCALENDAR
